BEGIN:VCALENDAR
VERSION:2.0
PRODID:-//The Christie PET-CT Academy - ECPv6.15.20//NONSGML v1.0//EN
CALSCALE:GREGORIAN
METHOD:PUBLISH
X-WR-CALNAME:The Christie PET-CT Academy
X-ORIGINAL-URL:https://petct-academy.com
X-WR-CALDESC:Events for The Christie PET-CT Academy
REFRESH-INTERVAL;VALUE=DURATION:PT1H
X-Robots-Tag:noindex
X-PUBLISHED-TTL:PT1H
BEGIN:VTIMEZONE
TZID:Europe/London
BEGIN:DAYLIGHT
TZOFFSETFROM:+0000
TZOFFSETTO:+0100
TZNAME:BST
DTSTART:20250330T010000
END:DAYLIGHT
BEGIN:STANDARD
TZOFFSETFROM:+0100
TZOFFSETTO:+0000
TZNAME:GMT
DTSTART:20251026T010000
END:STANDARD
BEGIN:DAYLIGHT
TZOFFSETFROM:+0000
TZOFFSETTO:+0100
TZNAME:BST
DTSTART:20260329T010000
END:DAYLIGHT
BEGIN:STANDARD
TZOFFSETFROM:+0100
TZOFFSETTO:+0000
TZNAME:GMT
DTSTART:20261025T010000
END:STANDARD
BEGIN:DAYLIGHT
TZOFFSETFROM:+0000
TZOFFSETTO:+0100
TZNAME:BST
DTSTART:20270328T010000
END:DAYLIGHT
BEGIN:STANDARD
TZOFFSETFROM:+0100
TZOFFSETTO:+0000
TZNAME:GMT
DTSTART:20271031T010000
END:STANDARD
END:VTIMEZONE
BEGIN:VEVENT
DTSTART;TZID=Europe/London:20260609T093000
DTEND;TZID=Europe/London:20260609T153000
DTSTAMP:20260420T153008
CREATED:20251222T112644Z
LAST-MODIFIED:20260305T140358Z
UID:10000135-1780997400-1781019000@petct-academy.com
SUMMARY:Radiation Protection Supervisor
DESCRIPTION:Delivered by The Christie’s Medical Physics and Engineering department\, the Radiation Protection Supervisor (RPS) course meets the requirement of the Health and Safety executive’s (HSE) regulation 15 of the Ionising Radiations Regulations 2017 (IRR17). \nThe course provides PET-CT and Nuclear Medicine staff with the knowledge\, understanding and skillset to undertake an RPS role within your organisation\, as detailed in the HSE’s Ionising Radiation Protection Series No. 6 information sheet. \nSuitable for radiographers\, technologists\, supervisors\, managers and other staff who may be required to act as an RPS. \nTo secure your place for this training session\, click the + button to select 1 ticket. Once selected\, the Get Tickets button will become active. Click it to proceed.
URL:https://petct-academy.com/session/radiation-protection-supervisor-2/
CATEGORIES:Radiation Protection Supervisor
ATTACH;FMTTYPE=image/jpeg:https://petct-academy.com/wp-content/uploads/2024/12/RPS-p20.jpg
LOCATION:https://petct-academy.com/session/radiation-protection-supervisor-2/
END:VEVENT
BEGIN:VEVENT
DTSTART;TZID=Europe/London:20261014T093000
DTEND;TZID=Europe/London:20261014T153000
DTSTAMP:20260420T153008
CREATED:20251111T115207Z
LAST-MODIFIED:20260123T163751Z
UID:10000127-1791970200-1791991800@petct-academy.com
SUMMARY:Radiation Protection Supervisor
DESCRIPTION:Delivered by The Christie’s Medical Physics and Engineering department\, the Radiation Protection Supervisor (RPS) course meets the requirement of the Health and Safety executive’s (HSE) regulation 15 of the Ionising Radiations Regulations 2017 (IRR17). \nThe course provides PET-CT and Nuclear Medicine staff with the knowledge\, understanding and skillset to undertake an RPS role within your organisation\, as detailed in the HSE’s Ionising Radiation Protection Series No. 6 information sheet. \nSuitable for radiographers\, technologists\, supervisors\, managers and other staff who may be required to act as an RPS. \nTo secure your place for this training session\, click the + button to select 1 ticket. Once selected\, the Get Tickets button will become active. Click it to proceed.
URL:https://petct-academy.com/session/radiation-protection-supervisor/
CATEGORIES:Radiation Protection Supervisor
ATTACH;FMTTYPE=image/jpeg:https://petct-academy.com/wp-content/uploads/2024/12/RPS-p20.jpg
LOCATION:https://petct-academy.com/session/radiation-protection-supervisor/
END:VEVENT
END:VCALENDAR